BEGIN:VCALENDAR
VERSION:2.0
PRODID:-//Sevim Aydin - ECPv6.10.1.1//NONSGML v1.0//EN
CALSCALE:GREGORIAN
METHOD:PUBLISH
X-ORIGINAL-URL:https://sevim-aydin.de
X-WR-CALDESC:Veranstaltungen für Sevim Aydin
REFRESH-INTERVAL;VALUE=DURATION:PT1H
X-Robots-Tag:noindex
X-PUBLISHED-TTL:PT1H
BEGIN:VTIMEZONE
TZID:Europe/Berlin
BEGIN:DAYLIGHT
TZOFFSETFROM:+0100
TZOFFSETTO:+0200
TZNAME:CEST
DTSTART:20250330T010000
END:DAYLIGHT
BEGIN:STANDARD
TZOFFSETFROM:+0200
TZOFFSETTO:+0100
TZNAME:CET
DTSTART:20251026T010000
END:STANDARD
END:VTIMEZONE
BEGIN:VEVENT
DTSTART;TZID=Europe/Berlin:20251210T160000
DTEND;TZID=Europe/Berlin:20251210T170000
DTSTAMP:20260419T205756
CREATED:20251021T113204Z
LAST-MODIFIED:20251021T113208Z
UID:5332-1765382400-1765386000@sevim-aydin.de
SUMMARY:Berufsberatung mit Michael Lüdke
DESCRIPTION:Kiezbüro Sevim Aydin Wassertorstr. 2\, Berlin \n\n\n\nAnmeldung bitte unter kontakt@sevim-aydin.de oder telefonisch unter 030/9349 2089
URL:https://sevim-aydin.de/termine/berufsberatung-mit-michael-luedke-13/
CATEGORIES:Berufsberatung
END:VEVENT
END:VCALENDAR